BEGIN:VCALENDAR
VERSION:2.0
PRODID:-//Jugendfeuerwehr Stuttgart - ECPv6.15.17.1//NONSGML v1.0//EN
CALSCALE:GREGORIAN
METHOD:PUBLISH
X-WR-CALNAME:Jugendfeuerwehr Stuttgart
X-ORIGINAL-URL:https://jugendfeuerwehr-stuttgart.de
X-WR-CALDESC:Veranstaltungen für Jugendfeuerwehr Stuttgart
REFRESH-INTERVAL;VALUE=DURATION:PT1H
X-Robots-Tag:noindex
X-PUBLISHED-TTL:PT1H
BEGIN:VTIMEZONE
TZID:Europe/Berlin
BEGIN:DAYLIGHT
TZOFFSETFROM:+0100
TZOFFSETTO:+0200
TZNAME:CEST
DTSTART:20250330T010000
END:DAYLIGHT
BEGIN:STANDARD
TZOFFSETFROM:+0200
TZOFFSETTO:+0100
TZNAME:CET
DTSTART:20251026T010000
END:STANDARD
BEGIN:DAYLIGHT
TZOFFSETFROM:+0100
TZOFFSETTO:+0200
TZNAME:CEST
DTSTART:20260329T010000
END:DAYLIGHT
BEGIN:STANDARD
TZOFFSETFROM:+0200
TZOFFSETTO:+0100
TZNAME:CET
DTSTART:20261025T010000
END:STANDARD
BEGIN:DAYLIGHT
TZOFFSETFROM:+0100
TZOFFSETTO:+0200
TZNAME:CEST
DTSTART:20270328T010000
END:DAYLIGHT
BEGIN:STANDARD
TZOFFSETFROM:+0200
TZOFFSETTO:+0100
TZNAME:CET
DTSTART:20271031T010000
END:STANDARD
END:VTIMEZONE
BEGIN:VEVENT
DTSTART;VALUE=DATE:20260425
DTEND;VALUE=DATE:20260426
DTSTAMP:20260425T183815
CREATED:20251030T120825Z
LAST-MODIFIED:20251030T121109Z
UID:1093-1777075200-1777161599@jugendfeuerwehr-stuttgart.de
SUMMARY:Schiedsrichterseminar der Region Stuttgart
DESCRIPTION:
URL:https://jugendfeuerwehr-stuttgart.de/event/schiedsrichterseminar-der-region-stuttgart/
LOCATION:Baden-Württemberg
CATEGORIES:Bildung,Seminar
END:VEVENT
BEGIN:VEVENT
DTSTART;VALUE=DATE:20260627
DTEND;VALUE=DATE:20260628
DTSTAMP:20260425T183815
CREATED:20251030T120449Z
LAST-MODIFIED:20251030T121114Z
UID:1081-1782518400-1782604799@jugendfeuerwehr-stuttgart.de
SUMMARY:2. Jugendforum 2026
DESCRIPTION:
URL:https://jugendfeuerwehr-stuttgart.de/event/2-jugendforum-2026/
LOCATION:Baden-Württemberg
CATEGORIES:Bildung,Versammlung
ORGANIZER;CN="Jugendfeuerwehr Stuttgart":MAILTO:info@jf-stuttgart.de
END:VEVENT
BEGIN:VEVENT
DTSTART;VALUE=DATE:20260715
DTEND;VALUE=DATE:20260716
DTSTAMP:20260425T183815
CREATED:20251030T120857Z
LAST-MODIFIED:20251030T121117Z
UID:1095-1784073600-1784159999@jugendfeuerwehr-stuttgart.de
SUMMARY:Kinder- und Jugendgruppenleiter-Sitzung
DESCRIPTION:
URL:https://jugendfeuerwehr-stuttgart.de/event/kinder-und-jugendgruppenleiter-sitzung/
LOCATION:Baden-Württemberg
CATEGORIES:Versammlung
ORGANIZER;CN="Jugendfeuerwehr Stuttgart":MAILTO:info@jf-stuttgart.de
END:VEVENT
BEGIN:VEVENT
DTSTART;VALUE=DATE:20260718
DTEND;VALUE=DATE:20260719
DTSTAMP:20260425T183815
CREATED:20251127T104439Z
LAST-MODIFIED:20251127T104439Z
UID:1102-1784332800-1784419199@jugendfeuerwehr-stuttgart.de
SUMMARY:Leistungsspange | Region Stuttgart
DESCRIPTION:
URL:https://jugendfeuerwehr-stuttgart.de/event/leistungsspange-region-stuttgart/
LOCATION:Kirchheim unter Teck\, Kirchheim unter Teck\, Baden-Württemberg\, Germany
CATEGORIES:Wettbewerb
END:VEVENT
BEGIN:VEVENT
DTSTART;VALUE=DATE:20260725
DTEND;VALUE=DATE:20260726
DTSTAMP:20260425T183815
CREATED:20251127T104644Z
LAST-MODIFIED:20251127T104644Z
UID:1105-1784937600-1785023999@jugendfeuerwehr-stuttgart.de
SUMMARY:Jubiläum | 30 Jahre Jugendfeuerwehr Wangen
DESCRIPTION:
URL:https://jugendfeuerwehr-stuttgart.de/event/jubilaeum-30-jahre-jugendfeuerwehr-wangen/
LOCATION:Freiw. Feuerwehr Stuttgart\, Abt. Wangen\, Ulmer Straße 334\, Stuttgart\, Baden-Württemberg\, 70327\, Germany
CATEGORIES:Jubiläum,Wettbewerb
ORGANIZER;CN="Freiw. Feuerwehr Stuttgart%2C Abt. Wangen":MAILTO:info@feuerwehr-wangen.de
END:VEVENT
BEGIN:VEVENT
DTSTART;VALUE=DATE:20260725
DTEND;VALUE=DATE:20260727
DTSTAMP:20260425T183815
CREATED:20251030T120558Z
LAST-MODIFIED:20251030T121122Z
UID:1085-1784937600-1785110399@jugendfeuerwehr-stuttgart.de
SUMMARY:Hüttenwochenende des Jugendforums
DESCRIPTION:
URL:https://jugendfeuerwehr-stuttgart.de/event/huettenwochenende-des-jugendforums/
LOCATION:Baden-Württemberg
CATEGORIES:Bildung,Freizeit,Soziales,Versammlung
ORGANIZER;CN="Jugendfeuerwehr Stuttgart":MAILTO:info@jf-stuttgart.de
END:VEVENT
BEGIN:VEVENT
DTSTART;VALUE=DATE:20261114
DTEND;VALUE=DATE:20261115
DTSTAMP:20260425T183815
CREATED:20251030T120516Z
LAST-MODIFIED:20251030T121126Z
UID:1083-1794614400-1794700799@jugendfeuerwehr-stuttgart.de
SUMMARY:3. Jugendforum 2026
DESCRIPTION:
URL:https://jugendfeuerwehr-stuttgart.de/event/3-jugendforum-2026/
LOCATION:Baden-Württemberg
CATEGORIES:Bildung,Versammlung
ORGANIZER;CN="Jugendfeuerwehr Stuttgart":MAILTO:info@jf-stuttgart.de
END:VEVENT
END:VCALENDAR